BEGIN:VCALENDAR
VERSION:2.0
PRODID:-//UK Agri-Tech Centre - ECPv6.15.20//NONSGML v1.0//EN
CALSCALE:GREGORIAN
METHOD:PUBLISH
X-WR-CALNAME:UK Agri-Tech Centre
X-ORIGINAL-URL:https://ukagritechcentre.com
X-WR-CALDESC:Events for UK Agri-Tech Centre
REFRESH-INTERVAL;VALUE=DURATION:PT1H
X-Robots-Tag:noindex
X-PUBLISHED-TTL:PT1H
BEGIN:VTIMEZONE
TZID:UTC
BEGIN:STANDARD
TZOFFSETFROM:+0000
TZOFFSETTO:+0000
TZNAME:UTC
DTSTART:20240101T000000
END:STANDARD
END:VTIMEZONE
BEGIN:VEVENT
DTSTART;TZID=UTC:20251120T114500
DTEND;TZID=UTC:20251120T170000
DTSTAMP:20260421T000047
CREATED:20251014T114509Z
LAST-MODIFIED:20251014T114509Z
UID:19363-1763639100-1763658000@ukagritechcentre.com
SUMMARY:Agri-tech networking: Rothamsted
DESCRIPTION:You’re invited to join us at Rothamsted Enterprises for a networking event and optional facility tours.\n\n\n\nJoin us for a dynamic networking event at Rothamsted Enterprises to grow your network and discover opportunities in the crop sectors. This event is a great opportunity to: \n\nMeet like-minded professionals\nUnlock your next business opportunity: exchange ideas\, explore potential partnerships and grow your network\nShare your expertise: make valuable connections that could lead to exciting new collaborations\n\nFollowing a networking lunch\, you can join an optional tour of Rothamsted Enterprises. This tour will explore innovative agri-tech capabilities that harness advanced sensors and digital technologies for the creation of sustainable practices that monitor environmental changes and enhance crop health and growth\, disease mitigation and sustainability: \n\nDigital Phenotyping Laboratory\nRothamsted Sample Archive\nField Scanalyzer\n\n\n\nRegister now
URL:https://ukagritechcentre.com/event/agri-tech-networking-rothamsted/
ATTACH;FMTTYPE=image/png:https://ukagritechcentre.com/wp-content/uploads/2025/10/Rothamsted-networking-1.png
END:VEVENT
END:VCALENDAR