BEGIN:VCALENDAR
VERSION:2.0
PRODID:-//UK Agri-Tech Centre - ECPv6.15.20//NONSGML v1.0//EN
CALSCALE:GREGORIAN
METHOD:PUBLISH
X-WR-CALNAME:UK Agri-Tech Centre
X-ORIGINAL-URL:https://ukagritechcentre.com
X-WR-CALDESC:Events for UK Agri-Tech Centre
REFRESH-INTERVAL;VALUE=DURATION:PT1H
X-Robots-Tag:noindex
X-PUBLISHED-TTL:PT1H
BEGIN:VTIMEZONE
TZID:UTC
BEGIN:STANDARD
TZOFFSETFROM:+0000
TZOFFSETTO:+0000
TZNAME:UTC
DTSTART:20240101T000000
END:STANDARD
END:VTIMEZONE
BEGIN:VEVENT
DTSTART;TZID=UTC:20250819T080000
DTEND;TZID=UTC:20250821T170000
DTSTAMP:20260421T030717
CREATED:20250703T154628Z
LAST-MODIFIED:20250815T135143Z
UID:17892-1755590400-1755795600@ukagritechcentre.com
SUMMARY:Aqua Nor 2025
DESCRIPTION:Aquanor is the world’s largest aquaculture technology exhibition\, drawing in over 25\,000 visitors from up to 76 nations. The event is dedicated to presenting the latest innovations from the aquaculture sector. Martin Sutcliffe\, Innovation Lead – Aquaculture will be giving a talk titled ‘Stop Treading Water – The next wave in responsible aquaculture.  \nThe UK Agri-Tech Centre will be present in the Scottish Pavilion alongside Otterferry Seafish. Come see us on stand D-337! Thank you to Highlands & Islands Enterprise who have supported our attendance at Aquanor. \nGet tickets
URL:https://ukagritechcentre.com/event/aqua-nor-2025/
CATEGORIES:Aqua
ATTACH;FMTTYPE=image/jpeg:https://ukagritechcentre.com/wp-content/uploads/2025/07/aquanor_ny_logo_nyside_hvit-1.jpg
END:VEVENT
END:VCALENDAR