BEGIN:VCALENDAR
VERSION:2.0
PRODID:-//UK Agri-Tech Centre - ECPv6.15.20//NONSGML v1.0//EN
CALSCALE:GREGORIAN
METHOD:PUBLISH
X-WR-CALNAME:UK Agri-Tech Centre
X-ORIGINAL-URL:https://ukagritechcentre.com
X-WR-CALDESC:Events for UK Agri-Tech Centre
REFRESH-INTERVAL;VALUE=DURATION:PT1H
X-Robots-Tag:noindex
X-PUBLISHED-TTL:PT1H
BEGIN:VTIMEZONE
TZID:UTC
BEGIN:STANDARD
TZOFFSETFROM:+0000
TZOFFSETTO:+0000
TZNAME:UTC
DTSTART:20250101T000000
END:STANDARD
END:VTIMEZONE
BEGIN:VEVENT
DTSTART;TZID=UTC:20260114T080000
DTEND;TZID=UTC:20260115T170000
DTSTAMP:20260421T000048
CREATED:20251105T163154Z
LAST-MODIFIED:20251105T163154Z
UID:19601-1768377600-1768496400@ukagritechcentre.com
SUMMARY:Croptec 2026
DESCRIPTION:This event will take place on January 14-15\, 2026\, giving you plenty of time to prepare. This collaboration presents an excellent opportunity to reach a significantly larger audience of arable farmers. \nBy bringing our events together\, we are creating access to the largest gathering of arable farmers and exhibitors in the UK. \nHosting the event at the award-winning NEC venue enhances your experience\, offering excellent transport links and convenient accommodation options. \nGet your free ticket
URL:https://ukagritechcentre.com/event/croptec-2026/
ATTACH;FMTTYPE=image/png:https://ukagritechcentre.com/wp-content/uploads/2024/04/CropTec-black-logo-KIP.png
END:VEVENT
END:VCALENDAR