BEGIN:VCALENDAR
VERSION:2.0
PRODID:-//UK Agri-Tech Centre - ECPv6.15.20//NONSGML v1.0//EN
CALSCALE:GREGORIAN
METHOD:PUBLISH
X-WR-CALNAME:UK Agri-Tech Centre
X-ORIGINAL-URL:https://ukagritechcentre.com
X-WR-CALDESC:Events for UK Agri-Tech Centre
REFRESH-INTERVAL;VALUE=DURATION:PT1H
X-Robots-Tag:noindex
X-PUBLISHED-TTL:PT1H
BEGIN:VTIMEZONE
TZID:UTC
BEGIN:STANDARD
TZOFFSETFROM:+0000
TZOFFSETTO:+0000
TZNAME:UTC
DTSTART:20250101T000000
END:STANDARD
END:VTIMEZONE
BEGIN:VEVENT
DTSTART;TZID=UTC:20260113T080000
DTEND;TZID=UTC:20260113T170000
DTSTAMP:20260421T000225
CREATED:20260113T111322Z
LAST-MODIFIED:20260113T111322Z
UID:20488-1768291200-1768323600@ukagritechcentre.com
SUMMARY:Focusing innovation in agri-tech standards and regulation
DESCRIPTION:Join us to explore ARRNet’s findings and what they mean for the adoption of standards for Robotics and Autonomous Systems in agriculture. \nFollowing 12 months of grant funding\, the project has completed a comprehensive study of the regulatory and standards landscape\, testing protocols and facilities\, and training regimes that support the development and adoption of robotics in agriculture. Join us to explore how these findings can be used to support agri-robotics companies\, innovators\, and the wider goals of the Industrial Strategy.\nThe Lincoln Institute for Agri-Food Technology will present findings from its comprehensive review of global standards\, identifying gaps and highlighting generic or translatable standards for agriculture from other sectors. \nBuilding on this work\, the UK Agri-Tech Centre will present a roadmap outlining a framework for developing new standards\, guidance\, and training to support innovation and the sharing of best practices. \nReasons to attend \n\nInsights into the future landscape of regulation and standards.\nDemonstrations from agri-robotics and automation companies.\nNetworking with the whole supply chain of regulatory and standards creation.\n\nGet your ticket
URL:https://ukagritechcentre.com/event/focusing-innovation-in-agri-tech-standards-and-regulation/
ATTACH;FMTTYPE=image/png:https://ukagritechcentre.com/wp-content/uploads/2026/01/ARRNet-4.png
END:VEVENT
END:VCALENDAR