BEGIN:VCALENDAR
VERSION:2.0
PRODID:-//UK Agri-Tech Centre - ECPv6.15.20//NONSGML v1.0//EN
CALSCALE:GREGORIAN
METHOD:PUBLISH
X-WR-CALNAME:UK Agri-Tech Centre
X-ORIGINAL-URL:https://ukagritechcentre.com
X-WR-CALDESC:Events for UK Agri-Tech Centre
REFRESH-INTERVAL;VALUE=DURATION:PT1H
X-Robots-Tag:noindex
X-PUBLISHED-TTL:PT1H
BEGIN:VTIMEZONE
TZID:UTC
BEGIN:STANDARD
TZOFFSETFROM:+0000
TZOFFSETTO:+0000
TZNAME:UTC
DTSTART:20250101T000000
END:STANDARD
END:VTIMEZONE
BEGIN:VEVENT
DTSTART;TZID=UTC:20260114T080000
DTEND;TZID=UTC:20260115T170000
DTSTAMP:20260421T000047
CREATED:20251203T114058Z
LAST-MODIFIED:20251203T114112Z
UID:20257-1768377600-1768496400@ukagritechcentre.com
SUMMARY:Low Carbon Agriculture
DESCRIPTION:The Low Carbon Agriculture Show is the UK’s only event dedicated to showcasing low-carbon practices\, cutting-edge technology and energy solutions for a sustainable farming future. This vibrant business event brings together forward-thinking farmers\, landowners and industry operators to explore how the agricultural sector can contribute to the UK’s Net Zero goals. \nGet your ticket now
URL:https://ukagritechcentre.com/event/low-carbon-agriculture/
ATTACH;FMTTYPE=image/jpeg:https://ukagritechcentre.com/wp-content/uploads/2025/12/LCA-logo.jpg
END:VEVENT
END:VCALENDAR