BEGIN:VCALENDAR
VERSION:2.0
PRODID:-//UK Agri-Tech Centre - ECPv6.15.20//NONSGML v1.0//EN
CALSCALE:GREGORIAN
METHOD:PUBLISH
X-WR-CALNAME:UK Agri-Tech Centre
X-ORIGINAL-URL:https://ukagritechcentre.com
X-WR-CALDESC:Events for UK Agri-Tech Centre
REFRESH-INTERVAL;VALUE=DURATION:PT1H
X-Robots-Tag:noindex
X-PUBLISHED-TTL:PT1H
BEGIN:VTIMEZONE
TZID:UTC
BEGIN:STANDARD
TZOFFSETFROM:+0000
TZOFFSETTO:+0000
TZNAME:UTC
DTSTART:20250101T000000
END:STANDARD
END:VTIMEZONE
BEGIN:VEVENT
DTSTART;TZID=UTC:20260123T080000
DTEND;TZID=UTC:20260123T170000
DTSTAMP:20260420T114741
CREATED:20260113T111051Z
LAST-MODIFIED:20260113T111051Z
UID:20485-1769155200-1769187600@ukagritechcentre.com
SUMMARY:Low-carbon fertiliser strategies: Practical use and farm value creation
DESCRIPTION:Join us online to explore how sustainable nitrogen alternatives can cut fertiliser use and lower farm carbon footprint. \nIn this webinar\, we will share trial outcomes and practical insights for the use of N-fixing endophytes and R-Leaf® foliar spray—two technologies designed to support smarter\, greener farming. We will also discuss how these solutions can be combined to not only reduce synthetic fertiliser use but also remove harmful nitrous oxide (N₂O) from the atmosphere. \nKey reasons to attend: \n\nGain independent\, practical evidence on the performance and combined use of R-Leaf® and N-fixing endophytes.\n\n\nHear from the industry how supply chains are incentivising low-carbon farming.\nExplore new revenue opportunities for farms — including carbon credits\, premium contracts and in setting schemes linked to verified N₂O removal.\nEarn BASIS points (TBC) while expanding your knowledge of sustainable agriculture.\n\nReserve your spot
URL:https://ukagritechcentre.com/event/low-carbon-fertiliser-strategies-practical-use-and-farm-value-creation/
ATTACH;FMTTYPE=image/png:https://ukagritechcentre.com/wp-content/uploads/2026/01/r-leaf-event-8.png
END:VEVENT
END:VCALENDAR