BEGIN:VCALENDAR
VERSION:2.0
PRODID:-//UK Agri-Tech Centre - ECPv6.15.20//NONSGML v1.0//EN
CALSCALE:GREGORIAN
METHOD:PUBLISH
X-ORIGINAL-URL:https://ukagritechcentre.com
X-WR-CALDESC:Events for UK Agri-Tech Centre
REFRESH-INTERVAL;VALUE=DURATION:PT1H
X-Robots-Tag:noindex
X-PUBLISHED-TTL:PT1H
BEGIN:VTIMEZONE
TZID:UTC
BEGIN:STANDARD
TZOFFSETFROM:+0000
TZOFFSETTO:+0000
TZNAME:UTC
DTSTART:20240101T000000
END:STANDARD
END:VTIMEZONE
BEGIN:VEVENT
DTSTART;TZID=UTC:20250729T080000
DTEND;TZID=UTC:20250729T170000
DTSTAMP:20260420T205342
CREATED:20250710T101555Z
LAST-MODIFIED:20250710T101555Z
UID:10000028-1753776000-1753808400@ukagritechcentre.com
SUMMARY:Agri-Tech Adoption on Farm: Bowhill Farm Tour and Workshop Session
DESCRIPTION:Join us at Bowhill Farming for an insightful tour led by the Sion Willams (Farm Manager)\, including demonstrations of the latest innovations in the agricultural sector. \nThrough various talks\, demonstrations and an interactive workshop\, this event explores the latest from across the sector and discusses on-farm innovation and the current barriers to adoption. \nYou will learn about a number of different on-farm technologies\, the role of data lead decisions and the impact of innovation adoption on farm \n  \nGet tickets
URL:https://ukagritechcentre.com/event/agri-tech-adoption-on-farm-bowhill-farm-tour-and-workshop-session/
CATEGORIES:Facility Tours
ATTACH;FMTTYPE=image/png:https://ukagritechcentre.com/wp-content/uploads/2025/07/Bowhill-farm-2.png
END:VEVENT
END:VCALENDAR