BEGIN:VCALENDAR
VERSION:2.0
PRODID:-//UK Agri-Tech Centre - ECPv6.15.20//NONSGML v1.0//EN
CALSCALE:GREGORIAN
METHOD:PUBLISH
X-WR-CALNAME:UK Agri-Tech Centre
X-ORIGINAL-URL:https://ukagritechcentre.com
X-WR-CALDESC:Events for UK Agri-Tech Centre
REFRESH-INTERVAL;VALUE=DURATION:PT1H
X-Robots-Tag:noindex
X-PUBLISHED-TTL:PT1H
BEGIN:VTIMEZONE
TZID:UTC
BEGIN:STANDARD
TZOFFSETFROM:+0000
TZOFFSETTO:+0000
TZNAME:UTC
DTSTART:20240101T000000
END:STANDARD
END:VTIMEZONE
BEGIN:VEVENT
DTSTART;TZID=UTC:20251008T100000
DTEND;TZID=UTC:20251008T144500
DTSTAMP:20260420T174524
CREATED:20250905T093104Z
LAST-MODIFIED:20250915T101019Z
UID:10000034-1759917600-1759934700@ukagritechcentre.com
SUMMARY:Agri-tech adoption on farm: Newton Farm
DESCRIPTION:The UK Agri-Tech Centre invites you to join us for an insightful farm tour and networking lunch at Newton Farm\, kindly hosted by the Roderick family\, to see and hear about the implementation of agri-tech in a mixed farming system. \nThrough various demonstrations of precision livestock technologies\, industry speakers and a panel session\, this event offers a valuable update on practical\, high-impact agri-tech currently available to British family farms. \nYou will learn about a number of exciting projects involving the Roderick family and technologies currently in use on the farm\, including: \n  \n\nAutonomous and in-field weighing of sheep and cattle for effective livestock management\nAdvanced sheep handling and drenching with UK Agri-Tech Centre’s resident parasitologist Dr Bethan John\nOn-animal sensors for health monitoring in beef rearing and finishing\nAI and remote sensing to track and measure biodiversity\n\nRegister now
URL:https://ukagritechcentre.com/event/agri-tech-on-farm-data-and-ai-enhancing-sustainability/
ATTACH;FMTTYPE=image/png:https://ukagritechcentre.com/wp-content/uploads/2025/09/Newton-farm-5.png
END:VEVENT
END:VCALENDAR