BEGIN:VCALENDAR
VERSION:2.0
PRODID:-//UK Agri-Tech Centre - ECPv6.15.20//NONSGML v1.0//EN
CALSCALE:GREGORIAN
METHOD:PUBLISH
X-WR-CALNAME:UK Agri-Tech Centre
X-ORIGINAL-URL:https://ukagritechcentre.com
X-WR-CALDESC:Events for UK Agri-Tech Centre
REFRESH-INTERVAL;VALUE=DURATION:PT1H
X-Robots-Tag:noindex
X-PUBLISHED-TTL:PT1H
BEGIN:VTIMEZONE
TZID:UTC
BEGIN:STANDARD
TZOFFSETFROM:+0000
TZOFFSETTO:+0000
TZNAME:UTC
DTSTART:20240101T000000
END:STANDARD
END:VTIMEZONE
BEGIN:VEVENT
DTSTART;TZID=UTC:20251018T080000
DTEND;TZID=UTC:20251019T170000
DTSTAMP:20260420T174556
CREATED:20250924T111619Z
LAST-MODIFIED:20250924T111751Z
UID:10000036-1760774400-1760893200@ukagritechcentre.com
SUMMARY:New Scientist Live 2025
DESCRIPTION:From interactive experiences to talks by the best-loved scientists and top academic minds\, this inspirational and educational festival promises to showcase the latest breakthroughs\, innovations and discoveries in science and technology. \nNew Scientist Live is for anyone and everyone who is curious about our brains\, our bodies\, our planet and our universe. \n  \nCome visit us on stand J10 alongside Farmers Weekly! \n  \nGet tickets 
URL:https://ukagritechcentre.com/event/new-scientist-live-2025/
ATTACH;FMTTYPE=image/png:https://ukagritechcentre.com/wp-content/uploads/2025/09/2022_NSL_logo-copy.png
END:VEVENT
END:VCALENDAR