BEGIN:VCALENDAR
VERSION:2.0
PRODID:-//UK Agri-Tech Centre - ECPv6.15.20//NONSGML v1.0//EN
CALSCALE:GREGORIAN
METHOD:PUBLISH
X-ORIGINAL-URL:https://ukagritechcentre.com
X-WR-CALDESC:Events for UK Agri-Tech Centre
REFRESH-INTERVAL;VALUE=DURATION:PT1H
X-Robots-Tag:noindex
X-PUBLISHED-TTL:PT1H
BEGIN:VTIMEZONE
TZID:UTC
BEGIN:STANDARD
TZOFFSETFROM:+0000
TZOFFSETTO:+0000
TZNAME:UTC
DTSTART:20240101T000000
END:STANDARD
END:VTIMEZONE
BEGIN:VEVENT
DTSTART;TZID=UTC:20251118T080000
DTEND;TZID=UTC:20251120T170000
DTSTAMP:20260420T161323
CREATED:20251014T113715Z
LAST-MODIFIED:20251014T113715Z
UID:10000038-1763452800-1763658000@ukagritechcentre.com
SUMMARY:Nuffield Annual Conference 2025
DESCRIPTION:The highly anticipated Conference and Annual Dinner will be hosted at the magnificent P&J Live\, Scotland’s newest state-of-the-art events venue\, located in the vibrant city of Aberdeen on 18- 20 November. \nThe UK Agri-Tech Centre is a silver sponsor for this event \nGet your tickets
URL:https://ukagritechcentre.com/event/nuffield-annual-conference-2025/
ATTACH;FMTTYPE=image/png:https://ukagritechcentre.com/wp-content/uploads/2025/10/nuffield.png
END:VEVENT
BEGIN:VEVENT
DTSTART;TZID=UTC:20251119T080000
DTEND;TZID=UTC:20251119T170000
DTSTAMP:20260420T161323
CREATED:20251113T134222Z
LAST-MODIFIED:20251113T134222Z
UID:10000045-1763539200-1763571600@ukagritechcentre.com
SUMMARY:Vineyard & Winery Show
DESCRIPTION:The Vineyard & Winery Show is an unmissable event for anyone working in viticulture in the UK and abroad. The Vineyard & Winery Show will provide vineyard owners\, winemakers and growers with a fantastic one-day opportunity to keep up to date with the latest technology. You will be able to meet with the suppliers of the services that are supporting the industry as well as the chance to network with the key players in the UK wine industry. \nFind us at booth M77! \nGet your ticket now
URL:https://ukagritechcentre.com/event/vineyard-winery-show/
ATTACH;FMTTYPE=image/webp:https://ukagritechcentre.com/wp-content/uploads/2025/11/Vineyard-Show-About-Us.webp
END:VEVENT
END:VCALENDAR