BEGIN:VCALENDAR
VERSION:2.0
PRODID:-//UK Agri-Tech Centre - ECPv6.15.20//NONSGML v1.0//EN
CALSCALE:GREGORIAN
METHOD:PUBLISH
X-ORIGINAL-URL:https://ukagritechcentre.com
X-WR-CALDESC:Events for UK Agri-Tech Centre
REFRESH-INTERVAL;VALUE=DURATION:PT1H
X-Robots-Tag:noindex
X-PUBLISHED-TTL:PT1H
BEGIN:VTIMEZONE
TZID:UTC
BEGIN:STANDARD
TZOFFSETFROM:+0000
TZOFFSETTO:+0000
TZNAME:UTC
DTSTART:20240101T000000
END:STANDARD
END:VTIMEZONE
BEGIN:VEVENT
DTSTART;TZID=UTC:20250911T100000
DTEND;TZID=UTC:20250911T160000
DTSTAMP:20260420T174707
CREATED:20250818T104102Z
LAST-MODIFIED:20250818T104252Z
UID:10000031-1757584800-1757606400@ukagritechcentre.com
SUMMARY:Robotics innovation diffusion event
DESCRIPTION:Join innovators\, growers\, researchers and technology developers for a full day of demonstrations\, discussions and collaboration focused on accelerating robotics adoption through real-world testbeds. \nOrganised by Innovate UK and hosted by the UK Agri-Tech Centre as part of the Robotics Proving Ground programme\, the event will explore how robotics can be rapidly validated\, adapted and deployed across agricultural systems and beyond. \nThe event takes place on 11 September 2025\, at The UK Agri-tech Centre Midlands Hub\, located at Harper Adams University. \nWhy attend?\n\nExplore how robotics testbeds are supporting faster innovation in UK agriculture\nDiscover opportunities for collaboration\, funding and testing through the Robotics Proving Ground\nConnect with a cross-sector community working at the frontier of robotics and automation\n\nRegister now. \n  \n*Please note that all attendees will be need to be approved after completing the registration form\, as places on this event are limited. Therefore\, your space on this event is not confirmed until you have received notification from us.
URL:https://ukagritechcentre.com/event/robotics-innovation-diffusion-event/
LOCATION:Midlands Hub\, Poultry Dr\, Edgmond\, Newport TF10 8JZ\, TF10 8JZ
ATTACH;FMTTYPE=image/jpeg:https://ukagritechcentre.com/wp-content/uploads/2025/08/Robot-arm-tomatoes.jpg
END:VEVENT
BEGIN:VEVENT
DTSTART;TZID=UTC:20250918T103000
DTEND;TZID=UTC:20250918T143000
DTSTAMP:20260420T174707
CREATED:20250828T091550Z
LAST-MODIFIED:20250828T091550Z
UID:10000032-1758191400-1758205800@ukagritechcentre.com
SUMMARY:ACDC: 'Advanced Crop Dynamic Control for vertical farm production' Demo day
DESCRIPTION:Join the ACDC consortium to learn more about integration of technologies and dynamic control to develop greener production recipes. \nOstara\, LettUs Grow\, Fotenix\, Vertically Urban\, Rothamsted Research and the UK Agri-Tech Centre are inviting stakeholders to join them on the day to learn more about the project and get a first-hand look at the ACDC system in action. \nKey reasons to attend: \n\nFind out how advanced responsive control of integrated spectral imaging\, tuneable lights and energy management systems is using plant health status to develop greener production recipes.\nHear how those recipes can be adapted using plant responses to reduce production energy demand.\nSee the integrated technology platform in action in UK Agri-Tech Centre’s Vertical Farm Demonstrator.\n\n  \nLearn more and get your tickets
URL:https://ukagritechcentre.com/event/acdc-advanced-crop-dynamic-control-for-vertical-farm-production-demo-day/
LOCATION:Stockbridge Technology Centre\, Cawood\, Selby\, YO8 3TZ
ATTACH;FMTTYPE=image/png:https://ukagritechcentre.com/wp-content/uploads/2025/08/ACDC-4.png
END:VEVENT
BEGIN:VEVENT
DTSTART;TZID=UTC:20250918T150000
DTEND;TZID=UTC:20250918T170000
DTSTAMP:20260420T174707
CREATED:20250828T093506Z
LAST-MODIFIED:20250828T093506Z
UID:10000033-1758207600-1758214800@ukagritechcentre.com
SUMMARY:Twin Pastures: UK–Canada Livestock Innovation Exchange - 2025 Canada Visit Briefing Session
DESCRIPTION:The ‘Twin Pastures: UK–Canada Livestock Innovation Exchange’ 2025/26 is now open for applications. \nLed by the UK Agri-Tech Centre in partnership with Canadian Agri-Food Automation and Intelligence Network and supported by the UK overseas network in Canada\, this fully funded visit programme offers UK agri-tech companies and research organisations the chance to deepen their knowledge\, build networks and explore collaboration with Canadian counterparts in frontier technologies like AI\, biosensing and real-time diagnostics for cattle health\, welfare and productivity. \nJoin this briefing session if you are interested in applying for this opportunity to deepen your insights into Canada’s livestock sector\, showcasing UK innovation on an international stage\, exploring R&D and export opportunities and building strategic partnerships across borders. You will hear from the key partners involved in this project\, highlighting where you will go\, who you will meet and key activities involved. We will also be covering logistics and taking any questions you may have on the opportunity. \n  \nRegister now \n 
URL:https://ukagritechcentre.com/event/twin-pastures-uk-canada-livestock-innovation-exchange-2025-canada-visit-briefing-session/
ATTACH;FMTTYPE=image/png:https://ukagritechcentre.com/wp-content/uploads/2025/08/UK-Canada-opportunity-1.png
END:VEVENT
BEGIN:VEVENT
DTSTART;TZID=UTC:20250922T080000
DTEND;TZID=UTC:20250923T170000
DTSTAMP:20260420T174707
CREATED:20250616T140234Z
LAST-MODIFIED:20250812T143925Z
UID:10000025-1758528000-1758646800@ukagritechcentre.com
SUMMARY:World Agri-Tech Innovation Summit 2025
DESCRIPTION:Gain Critical Intelligence on the Future of Agri-Food Innovation. Europe’s premier event for agri food pioneers\, World Agri-Tech is a must-attend summit for those invested in advancing nature-positive\, resilient agriculture and food systems. \nJoin senior decision-makers on September 22-23\, 2025 for two days of pivotal discussions and unmatched networking opportunities. \nJoin Hannah Senior\, Interim CEO\, The UK Agri-Tech Centre for her networking roundtable: ‘How can we Align Innovation\, Capital and Agricultural Timelines to Finance Agri-Tech Growth?’ at 12.40 on day 2. \nGet tickets
URL:https://ukagritechcentre.com/event/world-agri-tech-innovation-summit-2025/
LOCATION:InterContinental O2\, London\, London\, United Kingdom
ATTACH;FMTTYPE=image/png:https://ukagritechcentre.com/wp-content/uploads/2025/06/WP12-11700-20250627121540.png
END:VEVENT
BEGIN:VEVENT
DTSTART;TZID=UTC:20250924T100000
DTEND;TZID=UTC:20250924T160000
DTSTAMP:20260420T174707
CREATED:20250911T121211Z
LAST-MODIFIED:20250911T121211Z
UID:10000035-1758708000-1758729600@ukagritechcentre.com
SUMMARY:Working Robots Day
DESCRIPTION:This event is the second in the series of knowledge exchange events hosted by the Agri-Robotics Regulatory Network (ARRNet) and supported by a grant from Innovate UK. ARRNet\, a collaboration between the UK Agri-Tech Centre\, Lincoln Institute for Agri-food Technology\, Harper Adams University\, Manufacturing Technology Centre\, is working to overcome the remaining barriers to the widespread adoption of robotics and automation in agriculture. Through developing technical standards\, training and testing\, ARRNet aims to ensure the reliability and safety of Robotics and Autonomous Systems (RAS) in agriculture\, whilst also supporting commercialisation and adoption. \nBring your robots and try in-field test scenarios to assess safety and performance factors. \nGet your free ticket 
URL:https://ukagritechcentre.com/event/working-robots-day/
ATTACH;FMTTYPE=image/png:https://ukagritechcentre.com/wp-content/uploads/2025/09/Working-Robots-Day-5.png
END:VEVENT
BEGIN:VEVENT
DTSTART;TZID=UTC:20250924T114500
DTEND;TZID=UTC:20250924T150000
DTSTAMP:20260420T174707
CREATED:20250814T181548Z
LAST-MODIFIED:20250814T181548Z
UID:10000030-1758714300-1758726000@ukagritechcentre.com
SUMMARY:Agri-tech networking
DESCRIPTION:Join us at Cockle Park Farm for a networking event and optional farm tour with a demonstration of agri-tech innovation. \nCockle Park Farm\, Newcastle University’s flagship research facility\, located 18 miles north of Newcastle\, spans 271 hectares and is renowned for its commitment to sustainable farming practices. \nJoin us for a dynamic networking event to grow your network and discover collaboration opportunities in the arable and livestock sectors. This event is a great opportunity to: \n  \n\nMeet like-minded professionals\nDiscover new opportunities: exchange ideas\, explore potential partnerships and grow your network\nShare your expertise: make valuable connections that could lead to exciting new collaborations\n\n  \nFarm tour and demonstrations \nFollowing the networking lunch\, you can join an optional tour of Cockle Park Farm\, exploring innovative agriculture technologies and practices that address productivity\, sustainability\, and environmental stewardship. \n  \nDon’t miss this opportunity to strengthen your ties within the agri-tech community and see emerging technologies in practice working to enhance our food systems. \n  \nLearn more and get your ticket now
URL:https://ukagritechcentre.com/event/agri-tech-networking/
LOCATION:Cockle Park Farm\, Newcastle University\, Ulgham\, Morpeth\, Northumberland\, NE61 3EA\, United Kingdom
ATTACH;FMTTYPE=image/png:https://ukagritechcentre.com/wp-content/uploads/2025/08/Cockle-park-farm.png
END:VEVENT
END:VCALENDAR